BEGIN:VCALENDAR
VERSION:2.0
PRODID:-//ChamberMaster//Event Calendar 2.0//EN
METHOD:PUBLISH
X-PUBLISHED-TTL:P1H
REFRESH-INTERVAL:P1H
CALSCALE:GREGORIAN
BEGIN:VTIMEZONE
TZID:America/New_York
BEGIN:DAYLIGHT
RRULE:FREQ=YEARLY;BYMONTH=3;BYDAY=2SU
DTSTART:20070101T000000
TZOFFSETFROM:-0500
TZOFFSETTO:-0400
TZNAME:Eastern Daylight Time
END:DAYLIGHT
BEGIN:STANDARD
RRULE:FREQ=YEARLY;BYMONTH=11;BYDAY=1SU
DTSTART:20070101T000000
TZOFFSETFROM:-0400
TZOFFSETTO:-0500
TZNAME:Eastern Standard Time
END:STANDARD
END:VTIMEZONE
BEGIN:VEVENT
DTSTART;TZID=America/New_York:20260624T000000
DTEND;TZID=America/New_York:20260624T000000
X-MICROSOFT-CDO-ALLDAYEVENT:FALSE
SUMMARY:MAG Alaska 3rd Anniversary Sale
DESCRIPTION:
X-ALT-DESC;FMTTYPE=text/html:
LOCATION:
UID:e.4115.1429909
SEQUENCE:3
DTSTAMP:20260424T153352Z
URL:https://members.servnetauctions.com/servnet-events-and-auctions/Details/mag-alaska-3rd-anniversary-sale-1691537?sourceTypeId=Hub
END:VEVENT
END:VCALENDAR
